BEGIN:VCALENDAR
VERSION:2.0
PRODID:-//East Meadow Fire Department - ECPv6.15.20//NONSGML v1.0//EN
CALSCALE:GREGORIAN
METHOD:PUBLISH
X-ORIGINAL-URL:https://eastmeadowfd.com
X-WR-CALDESC:Events for East Meadow Fire Department
REFRESH-INTERVAL;VALUE=DURATION:PT1H
X-Robots-Tag:noindex
X-PUBLISHED-TTL:PT1H
BEGIN:VTIMEZONE
TZID:America/New_York
BEGIN:DAYLIGHT
TZOFFSETFROM:-0500
TZOFFSETTO:-0400
TZNAME:EDT
DTSTART:20260308T070000
END:DAYLIGHT
BEGIN:STANDARD
TZOFFSETFROM:-0400
TZOFFSETTO:-0500
TZNAME:EST
DTSTART:20261101T060000
END:STANDARD
BEGIN:DAYLIGHT
TZOFFSETFROM:-0500
TZOFFSETTO:-0400
TZNAME:EDT
DTSTART:20270314T070000
END:DAYLIGHT
BEGIN:STANDARD
TZOFFSETFROM:-0400
TZOFFSETTO:-0500
TZNAME:EST
DTSTART:20271107T060000
END:STANDARD
BEGIN:DAYLIGHT
TZOFFSETFROM:-0500
TZOFFSETTO:-0400
TZNAME:EDT
DTSTART:20280312T070000
END:DAYLIGHT
BEGIN:STANDARD
TZOFFSETFROM:-0400
TZOFFSETTO:-0500
TZNAME:EST
DTSTART:20281105T060000
END:STANDARD
END:VTIMEZONE
BEGIN:VEVENT
DTSTART;TZID=America/New_York:20270118T203000
DTEND;TZID=America/New_York:20270118T223000
DTSTAMP:20260423T044633
CREATED:20230104T171037Z
LAST-MODIFIED:20230104T173609Z
UID:10000110-1800304200-1800311400@eastmeadowfd.com
SUMMARY:Board of Fire Commissioners Public Meeting
DESCRIPTION:The Board of Fire Commissioners meet the 3rd Monday of every month and is opened to the public.  We hope to see you there.
URL:https://eastmeadowfd.com/event/board-of-fire-commissioners-public-meeting/2027-01-18/
LOCATION:EMFD Headquarters\, 197 East Meadow Avenue\, East Meadow\, NY\, 11554\, United States
CATEGORIES:Fire District Meeting
END:VEVENT
BEGIN:VEVENT
DTSTART;TZID=America/New_York:20270215T203000
DTEND;TZID=America/New_York:20270215T223000
DTSTAMP:20260423T044633
CREATED:20230104T171037Z
LAST-MODIFIED:20230104T173609Z
UID:10000111-1802723400-1802730600@eastmeadowfd.com
SUMMARY:Board of Fire Commissioners Public Meeting
DESCRIPTION:The Board of Fire Commissioners meet the 3rd Monday of every month and is opened to the public.  We hope to see you there.
URL:https://eastmeadowfd.com/event/board-of-fire-commissioners-public-meeting/2027-02-15/
LOCATION:EMFD Headquarters\, 197 East Meadow Avenue\, East Meadow\, NY\, 11554\, United States
CATEGORIES:Fire District Meeting
END:VEVENT
BEGIN:VEVENT
DTSTART;TZID=America/New_York:20270315T203000
DTEND;TZID=America/New_York:20270315T223000
DTSTAMP:20260423T044633
CREATED:20230104T171037Z
LAST-MODIFIED:20230104T173609Z
UID:10000112-1805142600-1805149800@eastmeadowfd.com
SUMMARY:Board of Fire Commissioners Public Meeting
DESCRIPTION:The Board of Fire Commissioners meet the 3rd Monday of every month and is opened to the public.  We hope to see you there.
URL:https://eastmeadowfd.com/event/board-of-fire-commissioners-public-meeting/2027-03-15/
LOCATION:EMFD Headquarters\, 197 East Meadow Avenue\, East Meadow\, NY\, 11554\, United States
CATEGORIES:Fire District Meeting
END:VEVENT
BEGIN:VEVENT
DTSTART;TZID=America/New_York:20270419T203000
DTEND;TZID=America/New_York:20270419T223000
DTSTAMP:20260423T044633
CREATED:20230104T171037Z
LAST-MODIFIED:20230104T173609Z
UID:10000113-1808166600-1808173800@eastmeadowfd.com
SUMMARY:Board of Fire Commissioners Public Meeting
DESCRIPTION:The Board of Fire Commissioners meet the 3rd Monday of every month and is opened to the public.  We hope to see you there.
URL:https://eastmeadowfd.com/event/board-of-fire-commissioners-public-meeting/2027-04-19/
LOCATION:EMFD Headquarters\, 197 East Meadow Avenue\, East Meadow\, NY\, 11554\, United States
CATEGORIES:Fire District Meeting
END:VEVENT
BEGIN:VEVENT
DTSTART;TZID=America/New_York:20270517T203000
DTEND;TZID=America/New_York:20270517T223000
DTSTAMP:20260423T044633
CREATED:20230104T171037Z
LAST-MODIFIED:20230104T173609Z
UID:10000114-1810585800-1810593000@eastmeadowfd.com
SUMMARY:Board of Fire Commissioners Public Meeting
DESCRIPTION:The Board of Fire Commissioners meet the 3rd Monday of every month and is opened to the public.  We hope to see you there.
URL:https://eastmeadowfd.com/event/board-of-fire-commissioners-public-meeting/2027-05-17/
LOCATION:EMFD Headquarters\, 197 East Meadow Avenue\, East Meadow\, NY\, 11554\, United States
CATEGORIES:Fire District Meeting
END:VEVENT
BEGIN:VEVENT
DTSTART;TZID=America/New_York:20270621T203000
DTEND;TZID=America/New_York:20270621T223000
DTSTAMP:20260423T044633
CREATED:20230104T171037Z
LAST-MODIFIED:20230104T173609Z
UID:10000115-1813609800-1813617000@eastmeadowfd.com
SUMMARY:Board of Fire Commissioners Public Meeting
DESCRIPTION:The Board of Fire Commissioners meet the 3rd Monday of every month and is opened to the public.  We hope to see you there.
URL:https://eastmeadowfd.com/event/board-of-fire-commissioners-public-meeting/2027-06-21/
LOCATION:EMFD Headquarters\, 197 East Meadow Avenue\, East Meadow\, NY\, 11554\, United States
CATEGORIES:Fire District Meeting
END:VEVENT
BEGIN:VEVENT
DTSTART;TZID=America/New_York:20270719T203000
DTEND;TZID=America/New_York:20270719T223000
DTSTAMP:20260423T044633
CREATED:20230104T171037Z
LAST-MODIFIED:20230104T173609Z
UID:10000116-1816029000-1816036200@eastmeadowfd.com
SUMMARY:Board of Fire Commissioners Public Meeting
DESCRIPTION:The Board of Fire Commissioners meet the 3rd Monday of every month and is opened to the public.  We hope to see you there.
URL:https://eastmeadowfd.com/event/board-of-fire-commissioners-public-meeting/2027-07-19/
LOCATION:EMFD Headquarters\, 197 East Meadow Avenue\, East Meadow\, NY\, 11554\, United States
CATEGORIES:Fire District Meeting
END:VEVENT
BEGIN:VEVENT
DTSTART;TZID=America/New_York:20270816T203000
DTEND;TZID=America/New_York:20270816T223000
DTSTAMP:20260423T044633
CREATED:20230104T171037Z
LAST-MODIFIED:20230104T173609Z
UID:10000117-1818448200-1818455400@eastmeadowfd.com
SUMMARY:Board of Fire Commissioners Public Meeting
DESCRIPTION:The Board of Fire Commissioners meet the 3rd Monday of every month and is opened to the public.  We hope to see you there.
URL:https://eastmeadowfd.com/event/board-of-fire-commissioners-public-meeting/2027-08-16/
LOCATION:EMFD Headquarters\, 197 East Meadow Avenue\, East Meadow\, NY\, 11554\, United States
CATEGORIES:Fire District Meeting
END:VEVENT
BEGIN:VEVENT
DTSTART;TZID=America/New_York:20270920T203000
DTEND;TZID=America/New_York:20270920T223000
DTSTAMP:20260423T044633
CREATED:20230104T171037Z
LAST-MODIFIED:20230104T173609Z
UID:10000118-1821472200-1821479400@eastmeadowfd.com
SUMMARY:Board of Fire Commissioners Public Meeting
DESCRIPTION:The Board of Fire Commissioners meet the 3rd Monday of every month and is opened to the public.  We hope to see you there.
URL:https://eastmeadowfd.com/event/board-of-fire-commissioners-public-meeting/2027-09-20/
LOCATION:EMFD Headquarters\, 197 East Meadow Avenue\, East Meadow\, NY\, 11554\, United States
CATEGORIES:Fire District Meeting
END:VEVENT
BEGIN:VEVENT
DTSTART;TZID=America/New_York:20271018T203000
DTEND;TZID=America/New_York:20271018T223000
DTSTAMP:20260423T044633
CREATED:20230104T171037Z
LAST-MODIFIED:20230104T173609Z
UID:10000119-1823891400-1823898600@eastmeadowfd.com
SUMMARY:Board of Fire Commissioners Public Meeting
DESCRIPTION:The Board of Fire Commissioners meet the 3rd Monday of every month and is opened to the public.  We hope to see you there.
URL:https://eastmeadowfd.com/event/board-of-fire-commissioners-public-meeting/2027-10-18/
LOCATION:EMFD Headquarters\, 197 East Meadow Avenue\, East Meadow\, NY\, 11554\, United States
CATEGORIES:Fire District Meeting
END:VEVENT
BEGIN:VEVENT
DTSTART;TZID=America/New_York:20271115T203000
DTEND;TZID=America/New_York:20271115T223000
DTSTAMP:20260423T044633
CREATED:20230104T171037Z
LAST-MODIFIED:20230104T173609Z
UID:10000120-1826310600-1826317800@eastmeadowfd.com
SUMMARY:Board of Fire Commissioners Public Meeting
DESCRIPTION:The Board of Fire Commissioners meet the 3rd Monday of every month and is opened to the public.  We hope to see you there.
URL:https://eastmeadowfd.com/event/board-of-fire-commissioners-public-meeting/2027-11-15/
LOCATION:EMFD Headquarters\, 197 East Meadow Avenue\, East Meadow\, NY\, 11554\, United States
CATEGORIES:Fire District Meeting
END:VEVENT
BEGIN:VEVENT
DTSTART;TZID=America/New_York:20271220T203000
DTEND;TZID=America/New_York:20271220T223000
DTSTAMP:20260423T044633
CREATED:20230104T171037Z
LAST-MODIFIED:20230104T173609Z
UID:10000121-1829334600-1829341800@eastmeadowfd.com
SUMMARY:Board of Fire Commissioners Public Meeting
DESCRIPTION:The Board of Fire Commissioners meet the 3rd Monday of every month and is opened to the public.  We hope to see you there.
URL:https://eastmeadowfd.com/event/board-of-fire-commissioners-public-meeting/2027-12-20/
LOCATION:EMFD Headquarters\, 197 East Meadow Avenue\, East Meadow\, NY\, 11554\, United States
CATEGORIES:Fire District Meeting
END:VEVENT
END:VCALENDAR